BEGIN:VCALENDAR
VERSION:2.0
PRODID:-// - ECPv6.15.20//NONSGML v1.0//EN
CALSCALE:GREGORIAN
METHOD:PUBLISH
X-ORIGINAL-URL:https://tickets.thebalconyclub.com
X-WR-CALDESC:Events for 
REFRESH-INTERVAL;VALUE=DURATION:PT1H
X-Robots-Tag:noindex
X-PUBLISHED-TTL:PT1H
BEGIN:VTIMEZONE
TZID:America/Boise
BEGIN:DAYLIGHT
TZOFFSETFROM:-0700
TZOFFSETTO:-0600
TZNAME:MDT
DTSTART:20230312T090000
END:DAYLIGHT
BEGIN:STANDARD
TZOFFSETFROM:-0600
TZOFFSETTO:-0700
TZNAME:MST
DTSTART:20231105T080000
END:STANDARD
BEGIN:DAYLIGHT
TZOFFSETFROM:-0700
TZOFFSETTO:-0600
TZNAME:MDT
DTSTART:20240310T090000
END:DAYLIGHT
BEGIN:STANDARD
TZOFFSETFROM:-0600
TZOFFSETTO:-0700
TZNAME:MST
DTSTART:20241103T080000
END:STANDARD
BEGIN:DAYLIGHT
TZOFFSETFROM:-0700
TZOFFSETTO:-0600
TZNAME:MDT
DTSTART:20250309T090000
END:DAYLIGHT
BEGIN:STANDARD
TZOFFSETFROM:-0600
TZOFFSETTO:-0700
TZNAME:MST
DTSTART:20251102T080000
END:STANDARD
BEGIN:DAYLIGHT
TZOFFSETFROM:-0700
TZOFFSETTO:-0600
TZNAME:MDT
DTSTART:20260308T090000
END:DAYLIGHT
BEGIN:STANDARD
TZOFFSETFROM:-0600
TZOFFSETTO:-0700
TZNAME:MST
DTSTART:20261101T080000
END:STANDARD
END:VTIMEZONE
BEGIN:VEVENT
DTSTART;TZID=America/Boise:20250906T190000
DTEND;TZID=America/Boise:20250906T220000
DTSTAMP:20260424T075155
CREATED:20250808T215546Z
LAST-MODIFIED:20250906T192810Z
UID:3291-1757185200-1757196000@tickets.thebalconyclub.com
SUMMARY:Lip Sync Battle - 6 September 2025
DESCRIPTION:***LIMITED SEATS ARE AVAILABLE AT THE DOOR*** \n  \nSync & Destroy is the ultimate lip sync battle between some of Boise’s top entertainers. \nEight high octane performers are going head to head in this one night only showdown at The Balcony Club. \nWill they impress our guest judge from RuPaul’s Drag Race season 15 and All Stars 10\, Mistress Isabelle Brooks. \nCome ready to make noise for your favorites and party all night for your Saturday night of Boise Pride. \n  \n*** This event is a 21+ event only.
URL:https://tickets.thebalconyclub.com/event/lip-sync-battle-6-september-2025/
LOCATION:The Balcony Club
CATEGORIES:Drag,Pride,RuPaul's Drag Queen
ATTACH;FMTTYPE=image/jpeg:https://tickets.thebalconyclub.com/wp-content/uploads/2025/08/Lip-Sync-Battle-6-September-2025.jpeg
ORGANIZER;CN="The Balcony Club":MAILTO:tickets@thebalconyclub.com
END:VEVENT
BEGIN:VEVENT
DTSTART;TZID=America/Boise:20240914T213000
DTEND;TZID=America/Boise:20240914T213000
DTSTAMP:20260424T075155
CREATED:20240815T183822Z
LAST-MODIFIED:20240914T151209Z
UID:1211-1726349400-1726349400@tickets.thebalconyclub.com
SUMMARY:PRIDE 2024 - Sapphira Cristál - 14 September 2024
DESCRIPTION:***** TICKETS ARE AVAILABLE AT THE DOOR – $35.00 *****\n  \n Get ready to SLAY at one of the most SPECTACULAR Pride Party of the year!  \nHeadlining this extravaganza is none other than the ICONIC Sapphira Cristál from RuPaul’s Drag Race Season 16 – First Runner-Up and Miss Congeniality!  \nBut that’s not all\, Some of your favorite local drag SUPERSTARS will also be serving looks and slaying the stage!  \nDon’t miss out on this FIERCE celebration of Pride! Grab your tickets NOW and get ready to celebrate Pride and Celebrate being who you are! \nWant to live your BEST LIFE? Upgrade to a VIP booth\, reserved just for you from 6 PM to midnight\, complete with free bubbly!  \nReady for the ULTIMATE experience? Snatch a Meet & Greet package with the divine Sapphira Cristál herself!  \n Doors fly open at 6 PM  The LEGENDARY show kicks off at 8 PM  Dance your heart out from 9:30 PM to 2 AM \nGet ready to WERK IT\, SERVE IT\, and CELEBRATE YOU at this FABULOUS Pride party event!  \n  \n* All prices include processing fees and Idaho Sales Tax (6%) \n* Show ticket is REQUIRED for a Meet and Greet ticket to be valid. \n** Cover after the show\, 930pm\, will be $15 cash at the door.
URL:https://tickets.thebalconyclub.com/event/pride-2024-sapphira-cristal-14-september-2024/
LOCATION:The Balcony Club
CATEGORIES:Drag,Pride,RuPaul's Drag Queen
ATTACH;FMTTYPE=image/jpeg:https://tickets.thebalconyclub.com/wp-content/uploads/2024/08/Banner-ad-for-Pride-Party-with-Sapphira-Cristal.jpg
END:VEVENT
BEGIN:VEVENT
DTSTART;TZID=America/Boise:20240822T190000
DTEND;TZID=America/Boise:20240822T220000
DTSTAMP:20260424T075155
CREATED:20240723T050131Z
LAST-MODIFIED:20240821T223057Z
UID:876-1724353200-1724364000@tickets.thebalconyclub.com
SUMMARY:Brooke Lynn Hytes - 22 August 2024
DESCRIPTION: DRAG ROYALTY ALERT!  \nGet ready to slay\, Boise! On August 22nd\, The Balcony Club is about to be LIT  \nPresenting the one\, the only\, the LEGENDARY Brooke Lynn Hytes!  \n Former Miss Continental\n RuPaul’s Drag Race Season 11 stunner\n Host of Canada’s Drag Race \nBut wait\, there’s more! Joining this dancing diva is a killer lineup of local legends: \n Miz Wafer\n Muff Jones\n Tucker Wright\n Pussy Electric\n Frida Nightz\n Mxstress Delicious\n Whitney Lion\n Micah Wish \nIt’s a one-night-only extravaganza that’ll leave you gagging!  \n VIP Alert: Snatch those Meet & Greet upgrades before they vanish! \n Tickets are flying faster than a death drop! Don’t miss out on this epic night of fierce looks and sick moves! \nGet ready to werk it at The Balcony Club!  \n#TheBalconyClub #TBCBoise #DragTakeover #BrookeLynnHytes #BalconyClubMadness
URL:https://tickets.thebalconyclub.com/event/brooke-lynn-hytes-22-august-2024/
LOCATION:The Balcony Club
CATEGORIES:Burlesque,Drag,Drag King,Drag Queen,RuPaul's Drag Queen
ATTACH;FMTTYPE=image/jpeg:https://tickets.thebalconyclub.com/wp-content/uploads/2024/07/Brooke-Lynn-Heights.jpg
END:VEVENT
BEGIN:VEVENT
DTSTART;TZID=America/Boise:20240725T190000
DTEND;TZID=America/Boise:20240725T220000
DTSTAMP:20260424T075155
CREATED:20240528T170551Z
LAST-MODIFIED:20240529T171224Z
UID:50-1721934000-1721944800@tickets.thebalconyclub.com
SUMMARY:GOTTMIK - 25 July 2024
DESCRIPTION:Meet and Greet starts at 7pm. \nShow starts at 8pm. \nScroll down to see tickets. \nLarge Booth + 3 Bottles of Champagne + M&G (10 People)\nYou get to share the only large booth with up to 10 of your friends! Price includes 3 bottles of champagne and Meet and Greet with GottMik! \nPrice Breakdown:\n$561.00 – Large Booth\n$51.93   – Payment Processing and Sales Tax (6%)\n$612.93 – Total \nSmall Booth + 2 Bottles of Champagne + M&G (7 People)\nYou get to share a small booth with up to 7 of your friends! Price includes 2 bottles of champagne and Meet and Greet with GottMik! \nPrice break down:\n$393.00 – Booth\n$36.53   – Payment Processing Fees and Idaho Sales Tax (6%)\n$429.53 – Total \nDance Floor VIP Seating\nGet a seat right on the dance floor! \nDon’t forget to add a Meet and Greet with GottMik! \nPrice breakdown\n$36.50 – Ticket Price\n$3.84   – Payment Processing and Idaho Sales Tax (6%)\n$40.34 – Total \nDance Floor Railing Seating\nGet a high seat on the railing that wraps around the dance floor. \nDon’t forget to add a Meet and Greet with GottMik! \nPrice breakdown\n$36.50 – Ticket Price\n$3.84   – Payment Processing and Idaho Sales Tax (6%)\n$40.34 – Total Price \nTable Top Seating\nGet a seat at one of our limited tables. We have 4 tops and up to 9 tops\, so make a plan with your friends! \nDon’t forget to add a Meet and Greet with GottMik! \nPrice breakdown\n$26.25 – Ticket Price\n$2.90   – Payment Processing and Idaho Sales Tax (6%)\n$29.15 – Total Price \nStanding Room\nLimited Standing Room only tickets. \nDon’t forget to add a Meet and Greet with GottMik! \nPrice breakdown\n$21.00 – Ticket Price\n$2.42   – Payment Processing and Sales Tax\n$23.42 – Total Ticket Price \nMeet & Greet\nWant to meet Gottmik? You have to buy these tickets.\nPhotographer will be taking pictures and we will upload the pictures onto our socials within a week. \nPrice breakdown\n$16.00 – Ticket Price\n$1.96   – Payment Processing and Idaho Sales Tax (6%)\n$17.96 – Total Ticket Price
URL:https://tickets.thebalconyclub.com/event/gottmik-25-july-2024/
LOCATION:The Balcony Club
CATEGORIES:Drag,Drag King,Drag Queen,Drag Thing,RuPaul's Drag Queen
ATTACH;FMTTYPE=image/jpeg:https://tickets.thebalconyclub.com/wp-content/uploads/2024/05/Gottmik-Banner-with-Cast.jpg
ORGANIZER;CN="The Balcony Club":MAILTO:tickets@thebalconyclub.com
END:VEVENT
BEGIN:VEVENT
DTSTART;TZID=America/Boise:20240724T170000
DTEND;TZID=America/Boise:20240724T210000
DTSTAMP:20260424T075155
CREATED:20240701T232359Z
LAST-MODIFIED:20240724T151305Z
UID:704-1721840400-1721854800@tickets.thebalconyclub.com
SUMMARY:Kiki with GottMik - 24 July 2024
DESCRIPTION:There are tickets available at the door.\nOnline sales are over.\n  \n🌟 **Bummed About Missing Out on GottMik? SURPRISE! 🌟 \nYou have another chance\, and this one is SPECIAL! \nThe Balcony Club is opening just for this show on Wednesday! Normally closed\, we’re making an exception for GottMik and YOU! \nDoors open at 5pm. From 6pm-8pm\, enjoy a Mix & Mingle & Q&A with GottMik and 99 other fans – only 100 tickets available! \nAt 8pm\, get ready for a spectacular 1-hour show! Seating is first come\, first served\, so arrive early if you want a booth seat. \n* Price includes processing fees and Idaho Sales Tax (6%)
URL:https://tickets.thebalconyclub.com/event/kiki-with-gottmik-24-july-2024/
LOCATION:The Balcony Club
CATEGORIES:Drag King,Drag Queen,RuPaul's Drag Queen
ATTACH;FMTTYPE=image/jpeg:https://tickets.thebalconyclub.com/wp-content/uploads/2024/07/KIKI-with-Gottmik-Banner-for-ticket-site.jpg
ORGANIZER;CN="The Balcony Club":MAILTO:tickets@thebalconyclub.com
END:VEVENT
END:VCALENDAR