BEGIN:VCALENDAR
VERSION:2.0
PRODID:-// - ECPv6.15.20//NONSGML v1.0//EN
CALSCALE:GREGORIAN
METHOD:PUBLISH
X-ORIGINAL-URL:https://tickets.thebalconyclub.com
X-WR-CALDESC:Events for 
REFRESH-INTERVAL;VALUE=DURATION:PT1H
X-Robots-Tag:noindex
X-PUBLISHED-TTL:PT1H
BEGIN:VTIMEZONE
TZID:America/Boise
BEGIN:DAYLIGHT
TZOFFSETFROM:-0700
TZOFFSETTO:-0600
TZNAME:MDT
DTSTART:20230312T090000
END:DAYLIGHT
BEGIN:STANDARD
TZOFFSETFROM:-0600
TZOFFSETTO:-0700
TZNAME:MST
DTSTART:20231105T080000
END:STANDARD
BEGIN:DAYLIGHT
TZOFFSETFROM:-0700
TZOFFSETTO:-0600
TZNAME:MDT
DTSTART:20240310T090000
END:DAYLIGHT
BEGIN:STANDARD
TZOFFSETFROM:-0600
TZOFFSETTO:-0700
TZNAME:MST
DTSTART:20241103T080000
END:STANDARD
BEGIN:DAYLIGHT
TZOFFSETFROM:-0700
TZOFFSETTO:-0600
TZNAME:MDT
DTSTART:20250309T090000
END:DAYLIGHT
BEGIN:STANDARD
TZOFFSETFROM:-0600
TZOFFSETTO:-0700
TZNAME:MST
DTSTART:20251102T080000
END:STANDARD
BEGIN:DAYLIGHT
TZOFFSETFROM:-0700
TZOFFSETTO:-0600
TZNAME:MDT
DTSTART:20260308T090000
END:DAYLIGHT
BEGIN:STANDARD
TZOFFSETFROM:-0600
TZOFFSETTO:-0700
TZNAME:MST
DTSTART:20261101T080000
END:STANDARD
END:VTIMEZONE
BEGIN:VEVENT
DTSTART;TZID=America/Boise:20250904T200000
DTEND;TZID=America/Boise:20250904T220000
DTSTAMP:20260424T042600
CREATED:20250801T052208Z
LAST-MODIFIED:20250903T204147Z
UID:3280-1757016000-1757023200@tickets.thebalconyclub.com
SUMMARY:Caravan Of Glam - 4 September 2025
DESCRIPTION:Caravan of Glam\, The PNW’s Premiere Queer Cabaret Troupe\nFeaturing Lylac\, Boujee Cherry\, Jayla Rose\, Hosted by Riley Burrows with Guest Performance by Stella Sin \nCaravan of Glam is the Pacific Northwest’s PREMIERE queer traveling cabaret troupe. This group of renown entertainers including regional superstars and Emmy award winning artists brings you HIGH ENERGY\, HIGH PRODUCTION and is sure to kick off pride with a BANG
URL:https://tickets.thebalconyclub.com/event/caravan-of-glam-4-september-2025/
LOCATION:The Balcony Club
CATEGORIES:Drag,Drag Queen,Pride
ATTACH;FMTTYPE=image/jpeg:https://tickets.thebalconyclub.com/wp-content/uploads/2025/07/Caravan-Of-Glam-4-September-2025.jpg
ORGANIZER;CN="The Balcony Club":MAILTO:tickets@thebalconyclub.com
END:VEVENT
BEGIN:VEVENT
DTSTART;TZID=America/Boise:20241024T190000
DTEND;TZID=America/Boise:20241024T203000
DTSTAMP:20260424T042600
CREATED:20240703T235714Z
LAST-MODIFIED:20241024T193929Z
UID:744-1729796400-1729801800@tickets.thebalconyclub.com
SUMMARY:Rocky Horror Picture Show - 24 October 2024
DESCRIPTION:*** LIMITED SEATS LEFT FOR SALE AT THE DOOR *** \n*** Doors are at 7pm. Show will begin at 8pm. *** \nDamn It Janet! \nYou are going to love this rendition of the Rocky Horror Picture Show! Join us as we have a full on Drag Show on stage while the movie plays on the screen behind it. Drag Queens\, Kings and Things will be lip syncing and performing a choreographed production with each song throughout the show. Get ready to jump up and do the time warp and show us your inner Transylvanian! The audience will receive a bag full of necessities and props when entering the venue. (this bag is included in your ticket price) \n\nThe Largest Booth and Frank-N-Furters Manor fit for 10 people. Riff Raff will even have 2 bottles of Champagne waiting for you as a welcome gift. Following the show you will be able to have VIP pictures with the cast. Each ticket comes with a goodie bag for each guest with all the supplies to interact and become part of the show.\nNow don’t be a size Queen the small booth in Frank-N-Furters Manor fit 7 people just fine. Riff Raff will even have a bottle of Champagne waiting for you as a welcome gift. Following the show you will be able to have VIP pictures with the cast. Each ticket comes with a goodie bag for each guest with all the supplies to interact and become part of the show.\nChairs will be reserved for our VIP Transylvanians. You will get a Picture opportunity with the cast following the show. Each ticket comes with a goodie bag with all the supplies to interact with the show.\nDoctor Frank has room for everyone in his castle. These seats will be first come first serve and for those that are not first you may be standing. But that makes it easier to dance!\nEach ticket comes with a goodie bag with all the supplies to interact with the show.\n\n**All ticket prices include Payment Processing and Sales Tax (6%) \nRocky Horror Drag Show Cast: \nFrank N. Furter – Transjenifahs Gawdy (Winner of Boise’s Next Drag Superstar Monsters) \nJanet – Cookie Pusss (Winner of Boise’s 6th Funniest person) \nBrad Majors- Buck D’Licious (Winner of Boise’s Next Drag Superstar Extravaganza) \nMagenta- Kxnni The Doll (Winner of Boise Burlesque Showperson Competition season 4) \nRiff Raff- Willy Munster (1st Runner up of Boise’s Next Drag Superstar Monsters) \nRocky – Derrick Douche’ (Winner of Boise’s Next Drag Superstar Kings Season 2) \nColumbia- Kora Whore (1st Runner up of Boise’s Next Drag Superstar season 6) \nEddie & Dr. Scott – Tucker Wright (1st Runner up of Boise’s Next Drag Superstar King Edition Season 1) \n“Don’t Dream it\, BE IT” and get your tickets today. This is a private event. You must have a ticket to attend. 21+
URL:https://tickets.thebalconyclub.com/event/rocky-horror-picture-show-24-october-2024/
LOCATION:The Balcony Club
CATEGORIES:Drag,Drag King,Drag Queen,Drag Thing
ATTACH;FMTTYPE=image/jpeg:https://tickets.thebalconyclub.com/wp-content/uploads/2024/06/RHDS-2024-Banner-.jpg
ORGANIZER;CN="The Balcony Club":MAILTO:tickets@thebalconyclub.com
END:VEVENT
BEGIN:VEVENT
DTSTART;TZID=America/Boise:20241023T190000
DTEND;TZID=America/Boise:20241023T203000
DTSTAMP:20260424T042600
CREATED:20240703T235618Z
LAST-MODIFIED:20241023T185013Z
UID:742-1729710000-1729715400@tickets.thebalconyclub.com
SUMMARY:Rocky Horror Picture Show - 23 October 2024
DESCRIPTION:*** Online ticket sales are over. There are tickets available at the door *** \n*** Doors are at 7pm. Show will begin at 8pm. *** \nDamn It Janet! \nYou are going to love this rendition of the Rocky Horror Picture Show! Join us as we have a full on Drag Show on stage while the movie plays on the screen behind it. Drag Queens\, Kings and Things will be lip syncing and performing a choreographed production with each song throughout the show. Get ready to jump up and do the time warp and show us your inner Transylvanian! The audience will receive a bag full of necessities and props when entering the venue. (this bag is included in your ticket price) \n\nThe Largest Booth and Frank-N-Furters Manor fit for 10 people. Riff Raff will even have 2 bottles of Champagne waiting for you as a welcome gift. Following the show you will be able to have VIP pictures with the cast. Each ticket comes with a goodie bag for each guest with all the supplies to interact and become part of the show.\nNow don’t be a size Queen the small booth in Frank-N-Furters Manor fit 7 people just fine. Riff Raff will even have a bottle of Champagne waiting for you as a welcome gift. Following the show you will be able to have VIP pictures with the cast. Each ticket comes with a goodie bag for each guest with all the supplies to interact and become part of the show.\nChairs will be reserved for our VIP Transylvanians. You will get a Picture opportunity with the cast following the show. Each ticket comes with a goodie bag with all the supplies to interact with the show.\nDoctor Frank has room for everyone in his castle. These seats will be first come first serve and for those that are not first you may be standing. But that makes it easier to dance!\nEach ticket comes with a goodie bag with all the supplies to interact with the show.\n\n**All ticket prices include Payment Processing and Sales Tax (6%) \nRocky Horror Drag Show Cast: \nFrank N. Furter – Transjenifahs Gawdy (Winner of Boise’s Next Drag Superstar Monsters) \nJanet – Cookie Pusss (Winner of Boise’s 6th Funniest person) \nBrad Majors- Buck D’Licious (Winner of Boise’s Next Drag Superstar Extravaganza) \nMagenta- Kxnni The Doll (Winner of Boise Burlesque Showperson Competition season 4) \nRiff Raff- Willy Munster (1st Runner up of Boise’s Next Drag Superstar Monsters) \nRocky – Derrick Douche’ (Winner of Boise’s Next Drag Superstar Kings Season 2) \nColumbia- Kora Whore (1st Runner up of Boise’s Next Drag Superstar season 6) \nEddie & Dr. Scott – Tucker Wright (1st Runner up of Boise’s Next Drag Superstar King Edition Season 1) \n“Don’t Dream it\, BE IT” and get your tickets today. This is a private event. You must have a ticket to attend. 21+
URL:https://tickets.thebalconyclub.com/event/rocky-horror-picture-show-23-october-2024/
LOCATION:The Balcony Club
CATEGORIES:Drag,Drag King,Drag Queen,Drag Thing
ATTACH;FMTTYPE=image/jpeg:https://tickets.thebalconyclub.com/wp-content/uploads/2024/06/RHDS-2024-Banner-.jpg
ORGANIZER;CN="The Balcony Club":MAILTO:tickets@thebalconyclub.com
END:VEVENT
BEGIN:VEVENT
DTSTART;TZID=America/Boise:20241022T190000
DTEND;TZID=America/Boise:20241022T203000
DTSTAMP:20260424T042600
CREATED:20240628T060308Z
LAST-MODIFIED:20241022T190508Z
UID:693-1729623600-1729629000@tickets.thebalconyclub.com
SUMMARY:Rocky Horror Picture Show - 22 October 2024
DESCRIPTION:*** Online ticket sales are over. There are tickets available at the door *** \n*** Doors are at 7pm. Show will begin at 8pm. *** \nDamn It Janet! \nYou are going to love this rendition of the Rocky Horror Picture Show! Join us as we have a full on Drag Show on stage while the movie plays on the screen behind it. Drag Queens\, Kings and Things will be lip syncing and performing a choreographed production with each song throughout the show. Get ready to jump up and do the time warp and show us your inner Transylvanian! The audience will receive a bag full of necessities and props when entering the venue. (this bag is included in your ticket price) \n\nThe Largest Booth and Frank-N-Furters Manor fit for 10 people. Riff Raff will even have 2 bottles of Champagne waiting for you as a welcome gift. Following the show you will be able to have VIP pictures with the cast. Each ticket comes with a goodie bag for each guest with all the supplies to interact and become part of the show.\nNow don’t be a size Queen the small booth in Frank-N-Furters Manor fit 7 people just fine. Riff Raff will even have a bottle of Champagne waiting for you as a welcome gift. Following the show you will be able to have VIP pictures with the cast. Each ticket comes with a goodie bag for each guest with all the supplies to interact and become part of the show.\nChairs will be reserved for our VIP Transylvanians. You will get a Picture opportunity with the cast following the show. Each ticket comes with a goodie bag with all the supplies to interact with the show.\nDoctor Frank has room for everyone in his castle. These seats will be first come first serve and for those that are not first you may be standing. But that makes it easier to dance!\nEach ticket comes with a goodie bag with all the supplies to interact with the show.\n\n**All ticket prices include Payment Processing and Sales Tax (6%) \nRocky Horror Drag Show Cast: \nFrank N. Furter – Transjenifahs Gawdy (Winner of Boise’s Next Drag Superstar Monsters) \nJanet – Cookie Pusss (Winner of Boise’s 6th Funniest person) \nBrad Majors- Buck D’Licious (Winner of Boise’s Next Drag Superstar Extravaganza) \nMagenta- Kxnni The Doll (Winner of Boise Burlesque Showperson Competition season 4) \nRiff Raff- Willy Munster (1st Runner up of Boise’s Next Drag Superstar Monsters) \nRocky – Derrick Douche’ (Winner of Boise’s Next Drag Superstar Kings Season 2) \nColumbia- Kora Whore (1st Runner up of Boise’s Next Drag Superstar season 6) \nEddie & Dr. Scott – Tucker Wright (1st Runner up of Boise’s Next Drag Superstar King Edition Season 1) \n“Don’t Dream it\, BE IT” and get your tickets today. This is a private event. You must have a ticket to attend. 21+
URL:https://tickets.thebalconyclub.com/event/rocky-horror-picture-show-22-october-2024/
LOCATION:The Balcony Club
CATEGORIES:Drag,Drag King,Drag Queen,Drag Thing
ATTACH;FMTTYPE=image/jpeg:https://tickets.thebalconyclub.com/wp-content/uploads/2024/06/RHDS-2024-Banner-.jpg
ORGANIZER;CN="The Balcony Club":MAILTO:tickets@thebalconyclub.com
END:VEVENT
BEGIN:VEVENT
DTSTART;TZID=America/Boise:20240908T120000
DTEND;TZID=America/Boise:20240908T140000
DTSTAMP:20260424T042600
CREATED:20240808T172017Z
LAST-MODIFIED:20240808T190625Z
UID:1125-1725796800-1725804000@tickets.thebalconyclub.com
SUMMARY:Second Sunday Slay Brunch with Served! and Waffle Love. 21+ - September 2024
DESCRIPTION:The Balcony Club and Served Drag Boise are teaming up with Waffle Love to bring you Second Sunday Slay Brunch! It’s time with Waffles\, Drag\, Mimosas\, and a Hell of a good time. \nWith the Waffle Bar from Waffle Love you will get a Belgian waffle\, strawberries\, raspberries\, Nutella\, Biscoff cookie butter\, fresh whipped cream\, maple syrup. (Gluten Free Options available***) Eggs and bacon. Our Bartenders will have Bottomless Mimosas available for purchase or anything else from our bar including Bloody Marys and Espresso Martinis. \nThen kick back\, enjoy your waffles and watch one kick ass drag show\, don’t forget to bring your bills for tipping because this crew will be serving it! \nVIP Booths are available along with 4 tops\, 6 tops\, and also seating for singles and doubles. To ensure sitting with your group\, book all tickets at the same time. Get your tickets now\, before it sells out! \nALSO NOW WE HAVE A LIMITED SUPPLY OF SHOW ONLY TICKETS! NO TICKETS WILL BE AVAILABLE AT THE DOOR. \n21+ Event \n***GLUTEN FREE WAFFLES AVAILABLE! Please email balconyclubevents@gmail.com with your order name and let us know how many of your tickets need to have a Gluten Free waffle. \n***Doors close to the event at 12:30pm \n***Price includes Payment Processing fees and Idaho Sales Tax
URL:https://tickets.thebalconyclub.com/event/second-sunday-slay-brunch-with-served-and-waffle-love-21-september-2024/
LOCATION:The Balcony Club
CATEGORIES:Brunch,Burlesque,Drag,Drag King,Drag Queen,Drag Thing
ATTACH;FMTTYPE=image/jpeg:https://tickets.thebalconyclub.com/wp-content/uploads/2024/08/Banner-For-Brunch-8-September-2024.jpg
ORGANIZER;CN="The Balcony Club":MAILTO:tickets@thebalconyclub.com
END:VEVENT
BEGIN:VEVENT
DTSTART;TZID=America/Boise:20240822T190000
DTEND;TZID=America/Boise:20240822T220000
DTSTAMP:20260424T042600
CREATED:20240723T050131Z
LAST-MODIFIED:20240821T223057Z
UID:876-1724353200-1724364000@tickets.thebalconyclub.com
SUMMARY:Brooke Lynn Hytes - 22 August 2024
DESCRIPTION: DRAG ROYALTY ALERT!  \nGet ready to slay\, Boise! On August 22nd\, The Balcony Club is about to be LIT  \nPresenting the one\, the only\, the LEGENDARY Brooke Lynn Hytes!  \n Former Miss Continental\n RuPaul’s Drag Race Season 11 stunner\n Host of Canada’s Drag Race \nBut wait\, there’s more! Joining this dancing diva is a killer lineup of local legends: \n Miz Wafer\n Muff Jones\n Tucker Wright\n Pussy Electric\n Frida Nightz\n Mxstress Delicious\n Whitney Lion\n Micah Wish \nIt’s a one-night-only extravaganza that’ll leave you gagging!  \n VIP Alert: Snatch those Meet & Greet upgrades before they vanish! \n Tickets are flying faster than a death drop! Don’t miss out on this epic night of fierce looks and sick moves! \nGet ready to werk it at The Balcony Club!  \n#TheBalconyClub #TBCBoise #DragTakeover #BrookeLynnHytes #BalconyClubMadness
URL:https://tickets.thebalconyclub.com/event/brooke-lynn-hytes-22-august-2024/
LOCATION:The Balcony Club
CATEGORIES:Burlesque,Drag,Drag King,Drag Queen,RuPaul's Drag Queen
ATTACH;FMTTYPE=image/jpeg:https://tickets.thebalconyclub.com/wp-content/uploads/2024/07/Brooke-Lynn-Heights.jpg
END:VEVENT
BEGIN:VEVENT
DTSTART;TZID=America/Boise:20240725T190000
DTEND;TZID=America/Boise:20240725T220000
DTSTAMP:20260424T042600
CREATED:20240528T170551Z
LAST-MODIFIED:20240529T171224Z
UID:50-1721934000-1721944800@tickets.thebalconyclub.com
SUMMARY:GOTTMIK - 25 July 2024
DESCRIPTION:Meet and Greet starts at 7pm. \nShow starts at 8pm. \nScroll down to see tickets. \nLarge Booth + 3 Bottles of Champagne + M&G (10 People)\nYou get to share the only large booth with up to 10 of your friends! Price includes 3 bottles of champagne and Meet and Greet with GottMik! \nPrice Breakdown:\n$561.00 – Large Booth\n$51.93   – Payment Processing and Sales Tax (6%)\n$612.93 – Total \nSmall Booth + 2 Bottles of Champagne + M&G (7 People)\nYou get to share a small booth with up to 7 of your friends! Price includes 2 bottles of champagne and Meet and Greet with GottMik! \nPrice break down:\n$393.00 – Booth\n$36.53   – Payment Processing Fees and Idaho Sales Tax (6%)\n$429.53 – Total \nDance Floor VIP Seating\nGet a seat right on the dance floor! \nDon’t forget to add a Meet and Greet with GottMik! \nPrice breakdown\n$36.50 – Ticket Price\n$3.84   – Payment Processing and Idaho Sales Tax (6%)\n$40.34 – Total \nDance Floor Railing Seating\nGet a high seat on the railing that wraps around the dance floor. \nDon’t forget to add a Meet and Greet with GottMik! \nPrice breakdown\n$36.50 – Ticket Price\n$3.84   – Payment Processing and Idaho Sales Tax (6%)\n$40.34 – Total Price \nTable Top Seating\nGet a seat at one of our limited tables. We have 4 tops and up to 9 tops\, so make a plan with your friends! \nDon’t forget to add a Meet and Greet with GottMik! \nPrice breakdown\n$26.25 – Ticket Price\n$2.90   – Payment Processing and Idaho Sales Tax (6%)\n$29.15 – Total Price \nStanding Room\nLimited Standing Room only tickets. \nDon’t forget to add a Meet and Greet with GottMik! \nPrice breakdown\n$21.00 – Ticket Price\n$2.42   – Payment Processing and Sales Tax\n$23.42 – Total Ticket Price \nMeet & Greet\nWant to meet Gottmik? You have to buy these tickets.\nPhotographer will be taking pictures and we will upload the pictures onto our socials within a week. \nPrice breakdown\n$16.00 – Ticket Price\n$1.96   – Payment Processing and Idaho Sales Tax (6%)\n$17.96 – Total Ticket Price
URL:https://tickets.thebalconyclub.com/event/gottmik-25-july-2024/
LOCATION:The Balcony Club
CATEGORIES:Drag,Drag King,Drag Queen,Drag Thing,RuPaul's Drag Queen
ATTACH;FMTTYPE=image/jpeg:https://tickets.thebalconyclub.com/wp-content/uploads/2024/05/Gottmik-Banner-with-Cast.jpg
ORGANIZER;CN="The Balcony Club":MAILTO:tickets@thebalconyclub.com
END:VEVENT
BEGIN:VEVENT
DTSTART;TZID=America/Boise:20240724T170000
DTEND;TZID=America/Boise:20240724T210000
DTSTAMP:20260424T042600
CREATED:20240701T232359Z
LAST-MODIFIED:20240724T151305Z
UID:704-1721840400-1721854800@tickets.thebalconyclub.com
SUMMARY:Kiki with GottMik - 24 July 2024
DESCRIPTION:There are tickets available at the door.\nOnline sales are over.\n  \n🌟 **Bummed About Missing Out on GottMik? SURPRISE! 🌟 \nYou have another chance\, and this one is SPECIAL! \nThe Balcony Club is opening just for this show on Wednesday! Normally closed\, we’re making an exception for GottMik and YOU! \nDoors open at 5pm. From 6pm-8pm\, enjoy a Mix & Mingle & Q&A with GottMik and 99 other fans – only 100 tickets available! \nAt 8pm\, get ready for a spectacular 1-hour show! Seating is first come\, first served\, so arrive early if you want a booth seat. \n* Price includes processing fees and Idaho Sales Tax (6%)
URL:https://tickets.thebalconyclub.com/event/kiki-with-gottmik-24-july-2024/
LOCATION:The Balcony Club
CATEGORIES:Drag King,Drag Queen,RuPaul's Drag Queen
ATTACH;FMTTYPE=image/jpeg:https://tickets.thebalconyclub.com/wp-content/uploads/2024/07/KIKI-with-Gottmik-Banner-for-ticket-site.jpg
ORGANIZER;CN="The Balcony Club":MAILTO:tickets@thebalconyclub.com
END:VEVENT
BEGIN:VEVENT
DTSTART;TZID=America/Boise:20240714T120000
DTEND;TZID=America/Boise:20240714T140000
DTSTAMP:20260424T042600
CREATED:20240524T052019Z
LAST-MODIFIED:20240712T133149Z
UID:29-1720958400-1720965600@tickets.thebalconyclub.com
SUMMARY:Second Sunday Slay Brunch with Served! and Waffle Love. 21+ - July 2024
DESCRIPTION:The Balcony Club and Served Drag Boise are teaming up with Waffle Love to bring you Second Sunday Slay Brunch! It’s time with Waffles\, Drag\, Mimosas\, and a Hell of a good time. \nWith the Waffle Bar from Waffle Love you will get a Belgian waffle\, strawberries\, raspberries\, Nutella\, Biscoff cookie butter\, fresh whipped cream\, maple syrup. (Gluten Free Options available***) Eggs and bacon. Our Bartenders will have Bottomless Mimosas available for purchase or anything else from our bar including Bloody Marys and Espresso Martinis. \nThen kick back\, enjoy your waffles and watch one kick ass drag show\, don’t forget to bring your bills for tipping because this crew will be serving it! \nVIP Booths are available along with 4 tops\, 6 tops\, and also seating for singles and doubles. To ensure sitting with your group\, book all tickets at the same time. Get your tickets now\, before it sells out! \nALSO NOW WE HAVE A LIMITED SUPPLY OF SHOW ONLY TICKETS! NO TICKETS WILL BE AVAILABLE AT THE DOOR. \n21+ Event \n***GLUTEN FREE WAFFLES AVAILABLE! Please email balconyclubevents@gmail.com with your order name and let us know how many of your tickets need to have a Gluten Free waffle. \n***Doors close to the event at 12:30pm \n***Price includes Payment Processing fees and Idaho Sales Tax
URL:https://tickets.thebalconyclub.com/event/second-sunday-slay-brunch-with-served-and-waffle-love-21-event-july-2024/
LOCATION:The Balcony Club
CATEGORIES:Brunch,Burlesque,Drag,Drag Queen
ATTACH;FMTTYPE=image/png:https://tickets.thebalconyclub.com/wp-content/uploads/2024/06/July-Brunch-2024.png
ORGANIZER;CN="The Balcony Club":MAILTO:tickets@thebalconyclub.com
END:VEVENT
END:VCALENDAR